BEGIN:VCALENDAR
VERSION:2.0
PRODID:-//Comedy Manila - ECPv6.5.1.2//NONSGML v1.0//EN
CALSCALE:GREGORIAN
METHOD:PUBLISH
X-ORIGINAL-URL:https://comedymanila.ph
X-WR-CALDESC:Events for Comedy Manila
REFRESH-INTERVAL;VALUE=DURATION:PT1H
X-Robots-Tag:noindex
X-PUBLISHED-TTL:PT1H
BEGIN:VTIMEZONE
TZID:UTC
BEGIN:STANDARD
TZOFFSETFROM:+0000
TZOFFSETTO:+0000
TZNAME:UTC
DTSTART:20260101T000000
END:STANDARD
END:VTIMEZONE
BEGIN:VEVENT
DTSTART;TZID=UTC:20260425T200000
DTEND;TZID=UTC:20260425T200000
DTSTAMP:20260422T214752
CREATED:20260322T083540Z
LAST-MODIFIED:20260420T002856Z
UID:31317-1777147200-1777147200@comedymanila.ph
SUMMARY:COMEDY MANILA TRIPLE HEADLINER: APR 25
DESCRIPTION:Ticket: Early Bird – P500 (until April 30) | P650 (Helixpay) | P800 (Walk-In)  June 12\, 2026 | 8:30 PM | Kape Amihan\, Balante\, Nueva Ecija 						\n				\n				\n				\n					\n			\n		\n				\n				\n					\n		\n					\n		\n				\n						\n					\n			\n						\n				\n			BUY TICKET
URL:https://comedymanila.ph/show/comedy-manila-triple-headliner-apr-25/
LOCATION:Brick Wall BGC
CATEGORIES:Alexio Tabafunda,Andren Bernardo,Marvin Tumon,Patrick Bobis,Rae Mammuad,RJ Carbonell,Sherwin Aguilar
ATTACH;FMTTYPE=image/jpeg:https://comedymanila.ph/wp-content/uploads/2026/03/Untitled-design-5.jpg
END:VEVENT
END:VCALENDAR