BEGIN:VCALENDAR
VERSION:2.0
PRODID:-//Comedy Manila - ECPv6.5.1.2//NONSGML v1.0//EN
CALSCALE:GREGORIAN
METHOD:PUBLISH
X-WR-CALNAME:Comedy Manila
X-ORIGINAL-URL:https://comedymanila.ph
X-WR-CALDESC:Events for Comedy Manila
REFRESH-INTERVAL;VALUE=DURATION:PT1H
X-Robots-Tag:noindex
X-PUBLISHED-TTL:PT1H
BEGIN:VTIMEZONE
TZID:UTC
BEGIN:STANDARD
TZOFFSETFROM:+0000
TZOFFSETTO:+0000
TZNAME:UTC
DTSTART:20260101T000000
END:STANDARD
END:VTIMEZONE
BEGIN:VEVENT
DTSTART;TZID=UTC:20260508T200000
DTEND;TZID=UTC:20260508T200000
DTSTAMP:20260423T040144
CREATED:20260325T135136Z
LAST-MODIFIED:20260420T082323Z
UID:31466-1778270400-1778270400@comedymanila.ph
SUMMARY:COMEDY MANILA SHOWCASE: MAY 8
DESCRIPTION:Ticket: P550 (Helixpay) | P700 (at the door)  May 8\, 2026 | 8:00 PM | Brick Wall\, BGC 						\n				\n				\n				\n					\n			\n		\n				\n				\n					\n		\n					\n		\n				\n						\n					\n			\n						\n				\n			BUY TICKET
URL:https://comedymanila.ph/show/comedy-manila-showcase-may-8/
LOCATION:Brick Wall BGC
CATEGORIES:Alexio Tabafunda,Andren Bernardo,Ansis Sy,Joseph Montecillo,JP Aguilera,Leland Lim,Micah Andres
ATTACH;FMTTYPE=image/jpeg:https://comedymanila.ph/wp-content/uploads/2026/03/Untitled-design-32.jpg
END:VEVENT
END:VCALENDAR