BEGIN:VCALENDAR
VERSION:2.0
PRODID:-//Comedy Manila - ECPv6.5.1.2//NONSGML v1.0//EN
CALSCALE:GREGORIAN
METHOD:PUBLISH
X-WR-CALNAME:Comedy Manila
X-ORIGINAL-URL:https://comedymanila.ph
X-WR-CALDESC:Events for Comedy Manila
REFRESH-INTERVAL;VALUE=DURATION:PT1H
X-Robots-Tag:noindex
X-PUBLISHED-TTL:PT1H
BEGIN:VTIMEZONE
TZID:UTC
BEGIN:STANDARD
TZOFFSETFROM:+0000
TZOFFSETTO:+0000
TZNAME:UTC
DTSTART:20260101T000000
END:STANDARD
END:VTIMEZONE
BEGIN:VEVENT
DTSTART;TZID=UTC:20260424T200000
DTEND;TZID=UTC:20260424T200000
DTSTAMP:20260424T014255
CREATED:20260319T013358Z
LAST-MODIFIED:20260420T002830Z
UID:31361-1777060800-1777060800@comedymanila.ph
SUMMARY:MAD HOUSE
DESCRIPTION:Ticket: P650 (Helixpay) | P850 (at the door)  May 15\, 2026 | 8:00 PM | Meshwe\, North Fairview 						\n				\n				\n				\n					\n			\n		\n				\n				\n					\n		\n					\n		\n				\n						\n					\n			\n						\n				\n			BUY TICKET
URL:https://comedymanila.ph/show/mad-house/
LOCATION:Manhattan Bar\, Madison 101 Hotel\, Aurora Blvd.\, Quezon City
CATEGORIES:Chino Liao,Jason Gomez,Marvin Tumon,Russel Arabis,Vin Buenaagua
ATTACH;FMTTYPE=image/jpeg:https://comedymanila.ph/wp-content/uploads/2026/04/Untitled-design-8.jpg
END:VEVENT
BEGIN:VEVENT
DTSTART;TZID=UTC:20260424T200000
DTEND;TZID=UTC:20260424T200000
DTSTAMP:20260424T014255
CREATED:20260327T051335Z
LAST-MODIFIED:20260327T051629Z
UID:31309-1777060800-1777060800@comedymanila.ph
SUMMARY:GB LABRADOR LIVE AT BRICK WALL
DESCRIPTION:Ticket: P650 (Helixpay) | P850 (at the door)  May 15\, 2026 | 8:00 PM | Meshwe\, North Fairview 						\n				\n				\n				\n					\n			\n		\n				\n				\n					\n		\n					\n		\n				\n						\n					\n			\n						\n				\n			BUY TICKET
URL:https://comedymanila.ph/show/gb-labrador-live-at-brick-wall-8/
LOCATION:Brick Wall BGC
CATEGORIES:GB Labrador,Joseph Montecillo,Margie De Leon,River Cruz,Steven Sagad
ATTACH;FMTTYPE=image/jpeg:https://comedymanila.ph/wp-content/uploads/2026/03/Untitled-design-3-1.jpg
END:VEVENT
END:VCALENDAR